BEGIN:VCALENDAR
VERSION:2.0
PRODID:icalendar-ruby
CALSCALE:GREGORIAN
METHOD:PUBLISH
BEGIN:VEVENT
DTSTAMP:20260421T043602Z
UID:34-2850358@firstumcsac.org
DTSTART:20260920T203000Z
DTEND:20260920T223000Z
CLASS:PUBLIC
CREATED:20260420T174726
DESCRIPTION:
LAST-MODIFIED:20260420T174726
LOCATION:Cesar Chavez Plaza
SUMMARY:Sac Foods Not Bombs Free Meal
URL;VALUE=URI:https://www.firstumcsac.org/events/sac-foods-not-bombs-free-m
 eal/2026-09-20
ATTACH;FILENAME=Cesar.jpg;FMTTYPE=image/jpeg:https://dq5pwpg1q8ru0.cloudfro
 nt.net/2024/08/05/04/43/19/13ff57f5-fdcd-48e2-bcfc-b8faaa52bba5/Cesar.jpg
END:VEVENT
END:VCALENDAR
