BEGIN:VCALENDAR
VERSION:2.0
PRODID:icalendar-ruby
CALSCALE:GREGORIAN
METHOD:PUBLISH
BEGIN:VEVENT
DTSTAMP:20260422T155839Z
UID:8-2870077@firstumcsac.org
DTSTART:20251110T160000Z
DTEND:20251110T193000Z
CLASS:PUBLIC
CREATED:20260422T080159
DESCRIPTION:
LAST-MODIFIED:20260422T080159
LOCATION:First United Methodist Church
SUMMARY:Midtown HART Respite Center & Showers
URL;VALUE=URI:https://www.firstumcsac.org/events/midtown-hart-respite-cente
 r-showers/2025-11-10
ATTACH;FILENAME=2227.jpg;FMTTYPE=image/jpeg:https://dq5pwpg1q8ru0.cloudfron
 t.net/2024/08/05/04/40/09/227e23e0-8116-4b51-b248-03958942ddaf/2227.jpg
END:VEVENT
END:VCALENDAR
