BEGIN:VCALENDAR
VERSION:2.0
PRODID:icalendar-ruby
CALSCALE:GREGORIAN
METHOD:PUBLISH
BEGIN:VEVENT
DTSTAMP:20260420T073150Z
UID:12-2831255@firstumcsac.org
DTSTART:20260915T163000Z
DTEND:20260915T193000Z
CLASS:PUBLIC
CREATED:20260420T000443
DESCRIPTION:
LAST-MODIFIED:20260420T000443
LOCATION:St John's
SUMMARY:Midtown HART Respite Care
URL;VALUE=URI:https://www.firstumcsac.org/events/midtown-hart-respite-care/
 2026-09-15
ATTACH;FILENAME=St-Johns.jpg;FMTTYPE=image/jpeg:https://dq5pwpg1q8ru0.cloud
 front.net/2024/08/05/04/47/59/91789fbd-53df-46dd-8662-43fec409a524/St-John
 s.jpg
END:VEVENT
END:VCALENDAR
