BEGIN:VCALENDAR
VERSION:2.0
PRODID:icalendar-ruby
CALSCALE:GREGORIAN
METHOD:PUBLISH
BEGIN:VEVENT
DTSTAMP:20260422T090520Z
UID:30-2866699@firstumcsac.org
DTSTART:20261024T160000Z
DTEND:20261024T200000Z
CLASS:PUBLIC
CREATED:20260421T180207
DESCRIPTION:
LAST-MODIFIED:20260421T180207
LOCATION:13th & C St
SUMMARY:Mercy Holistic Ministry Showers
URL;VALUE=URI:https://www.firstumcsac.org/events/mercy-holistic-ministry-sh
 owers/2026-10-24
END:VEVENT
END:VCALENDAR
