BEGIN:VCALENDAR
VERSION:2.0
PRODID:icalendar-ruby
CALSCALE:GREGORIAN
METHOD:PUBLISH
BEGIN:VEVENT
DTSTAMP:20260423T165937Z
UID:21-2888180@firstumcsac.org
DTSTART:20260813T170000Z
DTEND:20260813T200000Z
CLASS:PUBLIC
CREATED:20260423T080104
DESCRIPTION:
LAST-MODIFIED:20260423T080104
LOCATION:Nazarene
SUMMARY:Grandma Ellen's Clothes Closet
URL;VALUE=URI:https://www.firstumcsac.org/events/grandma-ellens-clothes-clo
 set/2026-08-13
ATTACH;FILENAME=waldemar-5hDqrxz5Rpc-unsplash.jpg;FMTTYPE=image/jpeg:https:
 //dq5pwpg1q8ru0.cloudfront.net/2024/07/09/20/33/31/e0af03e8-5298-41d6-9056
 -867765ec36ea/waldemar-5hDqrxz5Rpc-unsplash.jpg
END:VEVENT
END:VCALENDAR
