BEGIN:VCALENDAR
VERSION:2.0
PRODID:icalendar-ruby
CALSCALE:GREGORIAN
METHOD:PUBLISH
BEGIN:VEVENT
DTSTAMP:20260420T234231Z
UID:27-2846707@firstumcsac.org
DTSTART:20260904T150000Z
DTEND:20260904T160000Z
CLASS:PUBLIC
CREATED:20260420T151232
DESCRIPTION:
LAST-MODIFIED:20260420T151232
LOCATION:Cathedral of the Blessed Sacrament
SUMMARY:Brown Bag Lunch
URL;VALUE=URI:https://www.firstumcsac.org/events/brown-bag-lunch--27/2026-0
 9-04
ATTACH;FILENAME=cathedral.jpg;FMTTYPE=image/jpeg:https://dq5pwpg1q8ru0.clou
 dfront.net/2024/08/05/04/56/20/267f487f-4c85-41c2-8ea5-f6c411a47d42/cathed
 ral.jpg
END:VEVENT
END:VCALENDAR
