BEGIN:VCALENDAR
VERSION:2.0
PRODID:icalendar-ruby
CALSCALE:GREGORIAN
METHOD:PUBLISH
BEGIN:VEVENT
DTSTAMP:20260420T132109Z
UID:27-2835499@firstumcsac.org
DTSTART:20260724T150000Z
DTEND:20260724T160000Z
CLASS:PUBLIC
CREATED:20260420T045235
DESCRIPTION:
LAST-MODIFIED:20260420T045235
LOCATION:Cathedral of the Blessed Sacrament
SUMMARY:Brown Bag Lunch
URL;VALUE=URI:https://www.firstumcsac.org/events/brown-bag-lunch--27/2026-0
 7-24
ATTACH;FILENAME=cathedral.jpg;FMTTYPE=image/jpeg:https://dq5pwpg1q8ru0.clou
 dfront.net/2024/08/05/04/56/20/267f487f-4c85-41c2-8ea5-f6c411a47d42/cathed
 ral.jpg
END:VEVENT
END:VCALENDAR
