BEGIN:VCALENDAR
VERSION:2.0
PRODID:icalendar-ruby
CALSCALE:GREGORIAN
METHOD:PUBLISH
BEGIN:VEVENT
DTSTAMP:20260419T135311Z
UID:35-2688688@firstumcsac.org
DTSTART:20260419T150000Z
DTEND:20260419T160000Z
CLASS:PUBLIC
CREATED:20260411T091507
DESCRIPTION:BURRITO MINISTRY RETURNS\nWe are excited to bring back the burr
 ito ministry for the needy in our neighborhood\, and honor its history\, w
 hich began as a youth project. NEW this time - an additional clean-up crew
  that will beautify the grounds around the whole church before service tim
 e.\n\nBelow are the details. Please consider joining us in this hands-on m
 essage of God's love and acceptance by:\n - Signing up to volunteer (one 
 time\, or maybe once a quarter?)\n - Bringing the family or a neighbors k
 id (we will also be contacting local schools)\n - Donating money\, our go
 al is $3\,500 for the year\, make check payable to the church and designat
 e "community meals"\n\nDETAILS:\nWhen: Last 2 Sundays of each month\, 8:00
  am - 9:00 am (starting 8/24)\nWhat: Distribute burritos\, coffee\, and h
 ot chocolate to anyone in need\, and pick up garbage around the entire chu
 rch grounds \nWhere: Front steps of the church
LAST-MODIFIED:20260411T091507
LOCATION:First United Methodist Church
SUMMARY:Breakfast Burrito Ministry
URL;VALUE=URI:https://www.firstumcsac.org/events/breakfast-burrito-ministry
 /2026-04-19
ATTACH;FILENAME=2227.jpg;FMTTYPE=image/jpeg:https://dq5pwpg1q8ru0.cloudfron
 t.net/2024/08/05/04/59/34/045a3b9c-16a1-49ba-9722-03100100d449/2227.jpg
END:VEVENT
END:VCALENDAR
