BEGIN:VCALENDAR
VERSION:2.0
PRODID:icalendar-ruby
CALSCALE:GREGORIAN
METHOD:PUBLISH
BEGIN:VEVENT
DTSTAMP:20260424T042359Z
UID:22-2899556@firstumcsac.org
DTSTART:20261008T170000Z
DTEND:20261008T230000Z
CLASS:PUBLIC
CREATED:20260423T194010
DESCRIPTION:
LAST-MODIFIED:20260423T194010
LOCATION:LGBT Community Center
SUMMARY:Adult Drop-In Respite
URL;VALUE=URI:https://www.firstumcsac.org/events/adult-drop-in-respite--22/
 2026-10-08
ATTACH;FILENAME=275847742_334392055392222_2684668750982630246_n.jpg;FMTTYPE
 =image/jpeg:https://dq5pwpg1q8ru0.cloudfront.net/2024/07/09/20/35/59/d90ca
 d8d-2a95-46c5-ab72-840ce8cba3eb/275847742_334392055392222_2684668750982630
 246_n.jpg
END:VEVENT
END:VCALENDAR
